BEGIN:VCALENDAR
PRODID:-//kirchenweb.ch gmbh//veranstaltungsausgabe v2.0//DE
VERSION:2.0
METHOD:PUBLISH
BEGIN:VEVENT
DTSTART:20250920T120000Z
DTEND:20250920T150000Z
LOCATION:Brunnen Pausenplatz Schulhaus Hinterbüel\, Hinterbüelstrasse
  41\, 4612 Wangen bei Olten
TRANSP:OPAQUE
SEQUENCE:0
UID:27089-veranstaltung@ref-olten.ch
DTSTAMP:20260325T003549Z
DESCRIPTION:Auch heute werden wir den ganzen Nachmittag draussen
  verbringen und ein tolles Programm erleben.\n\nWie passiert Ausgrenzung?
  Was bedeutet Freundschaft? Und wo haben wir vielleicht falsche
  Vorstellungen? Einen Ansatz wirst du heute erfahren.\n\nAllgemeine Infos
  zur Jungschi OmG sind auf unserer Infoseite zu finden:
  https://www.ref-olten.ch/untergaeu-jungschi-omg\,\nz.B. Hinweise zum
  Treffpunkt\, was du mitnehmen kannst und die weiteren Daten\n\nWir freuen
  uns\, wenn auch du dabei bist und mit uns einen spannenden Nachmittag
  erlebst.\n\nKontakt: Matthias Hunn\, matthias.hunn@ref-olten.ch\, 078 737
  56 24\n\nWeitere Infos: https://www.ref-olten.ch/veranstaltung/27089
SUMMARY:Jungschi OmG
PRIORITY:5
X-MICROSOFT-CDO-IMPORTANCE:1
CLASS:PUBLIC
END:VEVENT
END:VCALENDAR
