BEGIN:VCALENDAR
PRODID:-//kirchenweb.ch gmbh//veranstaltungsausgabe v2.0//DE
VERSION:2.0
METHOD:PUBLISH
BEGIN:VEVENT
DTSTART:20250907T080000Z
DTEND:20250907T120000Z
LOCATION:Evangelisch-Reformierte Kirche\, Bodenmattstrasse 1\, 4614
  Hägendorf
TRANSP:OPAQUE
SEQUENCE:0
UID:27092-veranstaltung@ref-olten.ch
DTSTAMP:20250813T231043Z
DESCRIPTION:Wir helfen beim
  https://www.ref-olten.ch/kg/untergaeu/veranstaltung/25983Gottesdienst und
  Gemeindefest in Hägendorf mit\n\nAllgemeine Infos zur Jungschi OmG sind
  auf unserer Infoseite zu finden:
  https://www.ref-olten.ch/untergaeu-jungschi-omg\,\nz.B. Hinweise zum
  Treffpunkt\, was du mitnehmen kannst und die weiteren Daten\n\nWir freuen
  uns\, wenn auch du dabei bist und mit uns einen schönen Sonntag erlebst.
 \n\nKontakt: Sozialdiakonin Manuela Schällmann\, Grossmattstrasse 4\,
  4614 Hägendorf\, manuela.schaellmann@ref-olten.ch\, 062 216 18 26
 \nMatthias Hunn\, matthias.hunn@ref-olten.ch\n\nWeitere Infos:
  https://www.ref-olten.ch/veranstaltung/27092
SUMMARY:Jungschi OmG (Mithilfe am Gemeindefest)
PRIORITY:5
X-MICROSOFT-CDO-IMPORTANCE:1
CLASS:PUBLIC
END:VEVENT
END:VCALENDAR
