BEGIN:VCALENDAR
PRODID:-//kirchenweb.ch gmbh//veranstaltungsausgabe v2.0//DE
VERSION:2.0
METHOD:PUBLISH
BEGIN:VEVENT
DTSTART:20260124T130000Z
DTEND:20260124T160000Z
LOCATION:Pauluskirche\, Grundstrasse 18\, 4600 Olten
TRANSP:OPAQUE
SEQUENCE:0
UID:27094-veranstaltung@ref-olten.ch
DTSTAMP:20250813T235339Z
DESCRIPTION:Ein spezieller Nachmittag wartet auf uns. Wir entdecken das
  Geheimnis Bibel. Was es da wohl zu finden gibt?\nDamit wir uns auf die
  Suche machen können\, ist der Besammlungsort dieses Mal in Olten bei der
  Pauluskirche und etwas früher. Auch dauert der Nachmittag etwas länger.
 \n\nAllgemeine Infos zur Jungschi OmG sind auf unserer Infoseite zu
  finden: https://www.ref-olten.ch/untergaeu-jungschi-omg\,\nz.B. Hinweise
  zum Treffpunkt\, was du mitnehmen kannst und die weiteren Daten\n\nWir
  freuen uns\, wenn auch du dabei bist und mit uns einen spannenden
  Nachmittag erlebst.\n\nKontakt: Sozialdiakonin Manuela Schällmann\,
  Grossmattstrasse 4\, 4614 Hägendorf\, manuela.schaellmann@ref-olten.ch\,
  062 216 18 26\nMatthias Hunn\, matthias.hunn@ref-olten.ch\n\nWeitere
  Infos: https://www.ref-olten.ch/veranstaltung/27094
SUMMARY:Jungschi OmG "Geheimnis Bibel"
PRIORITY:5
X-MICROSOFT-CDO-IMPORTANCE:1
CLASS:PUBLIC
END:VEVENT
END:VCALENDAR
