BEGIN:VCALENDAR
PRODID:-//kirchenweb.ch gmbh//veranstaltungsausgabe v2.0//DE
VERSION:2.0
METHOD:PUBLISH
BEGIN:VEVENT
DTSTART:20260610T100000Z
DTEND:20260610T110000Z
LOCATION:Pauluskirche\, Grundstrasse 18\, 4600 Olten
TRANSP:OPAQUE
SEQUENCE:0
UID:27338-veranstaltung@ref-olten.ch
DTSTAMP:20250822T120451Z
DESCRIPTION:Kontakt: Esther Graf\, 079 485 78 09\n\nWeitere Infos:
  https://www.ref-olten.ch/veranstaltung/27338
SUMMARY:Mittagstisch
PRIORITY:5
X-MICROSOFT-CDO-IMPORTANCE:1
CLASS:PUBLIC
END:VEVENT
END:VCALENDAR
