BEGIN:VCALENDAR
PRODID:-//kirchenweb.ch gmbh//veranstaltungsausgabe v2.0//DE
VERSION:2.0
METHOD:PUBLISH
BEGIN:VEVENT
DTSTART:20260416T070000Z
DTEND:20260416T160000Z
LOCATION:Johanneskirche\, Chäppeligass 39\, 4632 Trimbach
TRANSP:OPAQUE
SEQUENCE:0
UID:27381-veranstaltung@ref-olten.ch
DTSTAMP:20250828T125025Z
DESCRIPTION:Ferie-Chill präsentiert:\nMinecraft and touch grass\n
 \nTagesferienlager für Jugendliche\n\nProgramm:\n9-11 Uhr Zuhause auf den
  PCs und Konsolen Minecraft spielen auf gemeinsamem Server\n12 Uhr
  Mittagessen in der Johanneskirche Trimbach\n-17/18 Uhr Ausflüge (z.B.
  Bowling/Grillieren etc.) oder Turniere (z.B. Ping-Pong/Döggeli Turnier
  etc.)\n\nFreitag: Abschlussapéro mit den Familien/Freunden im
  Kirchgemeindehaus\, Vorstellung der Minecraft - Welt\, die die
  Jugendlichen gebaut haben.\n\nKontakt: Sozialdiakonin Sian Surer\, 062
  295 42 12\n\nWeitere Infos: https://www.ref-olten.ch/veranstaltung/27381
SUMMARY:Ferie Chill: Minecraft and touch grass
PRIORITY:5
X-MICROSOFT-CDO-IMPORTANCE:1
CLASS:PUBLIC
END:VEVENT
END:VCALENDAR
