BEGIN:VCALENDAR
PRODID:-//kirchenweb.ch gmbh//veranstaltungsausgabe v2.0//DE
VERSION:2.0
METHOD:PUBLISH
BEGIN:VEVENT
DTSTART:20260425T083000Z
DTEND:20260425T103000Z
LOCATION:Zwinglikirche\, Kleinfeld 2A\, 4657 Dulliken
TRANSP:OPAQUE
SEQUENCE:0
UID:27402-veranstaltung@ref-olten.ch
DTSTAMP:20250902T123759Z
DESCRIPTION:ChliChind Chile Gottesdienst\, Spielen und Basteln für
  Familien mit Kindern von 0-5 Jahren\n\nKontakt: Beat Bachmann\,
  Diakonischer Mitarbeiter\, 076 522 41 89\n\nWeitere Infos:
  https://www.ref-olten.ch/veranstaltung/27402
SUMMARY:Chlichind Chile
PRIORITY:5
X-MICROSOFT-CDO-IMPORTANCE:1
CLASS:PUBLIC
END:VEVENT
END:VCALENDAR
