BEGIN:VCALENDAR
PRODID:-//kirchenweb.ch gmbh//veranstaltungsausgabe v2.0//DE
VERSION:2.0
METHOD:PUBLISH
BEGIN:VEVENT
DTSTART:20260215T090000Z
DTEND:20260215T100000Z
LOCATION:Pauluskirche Olten\, Grundstrasse 18\, 4600 Olten
TRANSP:OPAQUE
SEQUENCE:0
UID:27412-veranstaltung@ref-olten.ch
DTSTAMP:20260211T175156Z
DESCRIPTION:Gottesdienst mit einer Fasnachtspredigt.\nDie Vor-Osterhasen
  streuen nicht Konfetti\, sondern kritisches Denken.   \n\nKontakt: Pfr.
  Uwe Kaiser\, 062 296 22 60\n\nWeitere Infos:
  https://www.ref-olten.ch/veranstaltung/27412
SUMMARY:Gottesdienst Pauluskirche
PRIORITY:5
X-MICROSOFT-CDO-IMPORTANCE:1
CLASS:PUBLIC
END:VEVENT
END:VCALENDAR
