BEGIN:VCALENDAR
PRODID:-//kirchenweb.ch gmbh//veranstaltungsausgabe v2.0//DE
VERSION:2.0
METHOD:PUBLISH
BEGIN:VEVENT
DTSTART:20260816T080000Z
DTEND:20260816T090000Z
LOCATION:Friedenskirche\, Reiserstrasse 89\, 4600 Olten
TRANSP:OPAQUE
SEQUENCE:0
UID:27439-veranstaltung@ref-olten.ch
DTSTAMP:20260417T072723Z
DESCRIPTION:Gottesdienst mit einem Bericht der Mission am Nil und der
  Vorstellung der neuen Vikarin Priscilla Wahlen Sutter\nKinderhüte\,
  anschliessend Begegnungen beim Kirchenkaffee\n\nKontakt: Pfr. Uwe
  Kaiser\, 062 296 22 60\n\nWeitere Infos:
  https://www.ref-olten.ch/veranstaltung/27439
SUMMARY:Gottesdienst Friedenskirche
PRIORITY:5
X-MICROSOFT-CDO-IMPORTANCE:1
CLASS:PUBLIC
END:VEVENT
END:VCALENDAR
