BEGIN:VCALENDAR
PRODID:-//kirchenweb.ch gmbh//veranstaltungsausgabe v2.0//DE
VERSION:2.0
METHOD:PUBLISH
BEGIN:VEVENT
DTSTART:20260314T100000Z
DTEND:20260314T123000Z
LOCATION:Evangelisch-Reformiertes Kirchgemeindehaus\, Grossmattstrasse 2\,
  4614 Hägendorf
TRANSP:OPAQUE
SEQUENCE:0
UID:27498-veranstaltung@ref-olten.ch
DTSTAMP:20260130T075702Z
DESCRIPTION:Der Ökumenische Suppentag in Hägendorf findet 2 x jährlich
  statt.\nGeniessen Sie unsere selbst gekochte Suppen. \nKollekte zu
  Gunsten HEKS.\n\nKontakt: Cornelia Berger\, Lärchenweg 4\, 4614
  Hägendorf\, cornelia.berger@ref-olten.ch\, 078 789 94 65\n\nWeitere
  Infos: https://www.ref-olten.ch/veranstaltung/27498
SUMMARY:Ökumenischer Suppentag Hägendorf
PRIORITY:5
X-MICROSOFT-CDO-IMPORTANCE:1
CLASS:PUBLIC
END:VEVENT
END:VCALENDAR
