BEGIN:VCALENDAR
PRODID:-//kirchenweb.ch gmbh//veranstaltungsausgabe v2.0//DE
VERSION:2.0
METHOD:PUBLISH
BEGIN:VEVENT
DTSTART:20260612T160000Z
DTEND:20260612T190000Z
LOCATION:Zwinglikirche\, Kleinfeld 2A\, 4657 4657 Dulliken
TRANSP:OPAQUE
SEQUENCE:0
UID:27522-veranstaltung@ref-olten.ch
DTSTAMP:20260225T150458Z
DESCRIPTION:Kontakt: Claudia Felder-Krähenbühl\n079 360 86 73\n\n\n
 \nWeitere Infos: https://www.ref-olten.ch/veranstaltung/27522
SUMMARY:Multikulturelles Kochen
PRIORITY:5
X-MICROSOFT-CDO-IMPORTANCE:1
CLASS:PUBLIC
END:VEVENT
END:VCALENDAR
