BEGIN:VCALENDAR
PRODID:-//kirchenweb.ch gmbh//veranstaltungsausgabe v2.0//DE
VERSION:2.0
METHOD:PUBLISH
BEGIN:VEVENT
DTSTART:20260812T173000Z
DTEND:20260812T193000Z
LOCATION:Pauluskirche\, Grundstrasse 18\, 4600 Olten
TRANSP:OPAQUE
SEQUENCE:0
UID:27549-veranstaltung@ref-olten.ch
DTSTAMP:20251011T141918Z
DESCRIPTION:Wir sind eine kunterbunte Gruppe von Menschen verschiedensten
  Alters\, die sich rund alle 14 Tage treffen um gemeinsam die Freude am
  Kreistanz auszuleben.\n\nWir freuen uns über jedes neue Gesicht in
  unserer Gruppe - Einsteigen ist jederzeit möglich!\n\nKosten:  CHF 200.-
  pro Halbjahr\n\nKontakt: Ursula Rutschi\, 062 293 30 62\n\nWeitere Infos:
  https://www.ref-olten.ch/veranstaltung/27549
SUMMARY:Kreistanz in Olten
PRIORITY:5
X-MICROSOFT-CDO-IMPORTANCE:1
CLASS:PUBLIC
END:VEVENT
END:VCALENDAR
