BEGIN:VCALENDAR
PRODID:-//kirchenweb.ch gmbh//veranstaltungsausgabe v2.0//DE
VERSION:2.0
METHOD:PUBLISH
BEGIN:VEVENT
DTSTART:20260420T063000Z
DTEND:20260420T090000Z
LOCATION:Zwinglikirche\, Kleinfeld 2A\, 4657 4657 Dulliken
TRANSP:OPAQUE
SEQUENCE:0
UID:27591-veranstaltung@ref-olten.ch
DTSTAMP:20260226T142247Z
DESCRIPTION:ECAP \n\nKontakt: Marlise Vogt\, 062 295 22 87\n\nWeitere
  Infos: https://www.ref-olten.ch/veranstaltung/27591
SUMMARY:ECAP
PRIORITY:5
X-MICROSOFT-CDO-IMPORTANCE:1
CLASS:PUBLIC
END:VEVENT
END:VCALENDAR
