BEGIN:VCALENDAR
PRODID:-//kirchenweb.ch gmbh//veranstaltungsausgabe v2.0//DE
VERSION:2.0
METHOD:PUBLISH
BEGIN:VEVENT
DTSTART:20260423T113000Z
DTEND:20260423T140000Z
LOCATION:Zwinglikirche\, Kleinfeld 2A\, 4657 Dulliken
TRANSP:OPAQUE
SEQUENCE:0
UID:27608-veranstaltung@ref-olten.ch
DTSTAMP:20250923T140548Z
DESCRIPTION:Deutschkurs von der Gemeinde angeboten.\n\nKontakt: Marlise
  Vogt\, 062 295 22 87\n\nWeitere Infos:
  https://www.ref-olten.ch/veranstaltung/27608
SUMMARY:ECAP Do-Nachmittag
PRIORITY:5
X-MICROSOFT-CDO-IMPORTANCE:1
CLASS:PUBLIC
END:VEVENT
END:VCALENDAR
