BEGIN:VCALENDAR
PRODID:-//kirchenweb.ch gmbh//veranstaltungsausgabe v2.0//DE
VERSION:2.0
METHOD:PUBLISH
BEGIN:VEVENT
DTSTART:20260423T173000Z
DTEND:20260423T190000Z
LOCATION:Pauluskirche\, Grundstrasse 18\, 4600 Olten
TRANSP:OPAQUE
SEQUENCE:0
UID:27629-veranstaltung@ref-olten.ch
DTSTAMP:20251016T080405Z
DESCRIPTION:Grosse Exerzitien im Alltag ..\nsind ein Angebot für
  Menschen\, die in sich eine Sehnsucht spüren\, Gott und dem Glauben im
  eigenen Alltag vermehrt auf die Spur zu kommen. Exerzitien - geistliche
  Übungen/Rituale - können dabei eine Hilfe sein. Vorkenntnisse sind
  nicht nötig. Es brauchteinzig die Bereitschaft\, sich eine halbe Stunde
  am Tag Zeit zu nehmen\, um sich mit den täglichen Impulsenaus dem
  Begleitbuchauseinanderzusetzen. Die Exerzitien nennen sich gross\, weil
  sie über ein halbes Jahr dauern - 17.11.2025 - Pfingsten 2026.
 \nBegleitung auf diesem Weg und zugleich eine Bereicherung sind monatliche
  Austauschtreffen. In Olten wird es mehrere Begleitgruppen geben\, die
  sich jeweils einmal monatlich treffen.\n\nAnmeldeschluss: 31. Oktober
  2025\nKosten für Kursbuch und Unkosten: Fr.40\n\n\nKontakt: Pfrn.
  Melanie Ludwig\, 062 212 48 84\n\nWeitere Infos:
  https://www.ref-olten.ch/veranstaltung/27629
SUMMARY:Gott einen Ort sichern - grosse Exerzitien
PRIORITY:5
X-MICROSOFT-CDO-IMPORTANCE:1
CLASS:PUBLIC
END:VEVENT
END:VCALENDAR
