BEGIN:VCALENDAR
PRODID:-//kirchenweb.ch gmbh//veranstaltungsausgabe v2.0//DE
VERSION:2.0
METHOD:PUBLISH
BEGIN:VEVENT
DTSTART:20260609T123000Z
DTEND:20260609T140000Z
LOCATION:Zwinglikirche\, Kleinfeld 2A\, 4657 Dulliken
TRANSP:OPAQUE
SEQUENCE:0
UID:27654-veranstaltung@ref-olten.ch
DTSTAMP:20250930T142329Z
DESCRIPTION:Reise: Innerschweiz - Seelisberg mit Born-Reisen\n\nKontakt:
  Anita Lüscher\n\nWeitere Infos:
  https://www.ref-olten.ch/veranstaltung/27654
SUMMARY:Seniorentreff
PRIORITY:5
X-MICROSOFT-CDO-IMPORTANCE:1
CLASS:PUBLIC
END:VEVENT
END:VCALENDAR
