BEGIN:VCALENDAR
PRODID:-//kirchenweb.ch gmbh//veranstaltungsausgabe v2.0//DE
VERSION:2.0
METHOD:PUBLISH
BEGIN:VEVENT
DTSTART:20260619T160000Z
DTEND:20260619T190000Z
LOCATION:Jugendkeller Hägendorf\, Bodenmattstrasse 1\, 4614 Hägendorf
TRANSP:OPAQUE
SEQUENCE:0
UID:27731-veranstaltung@ref-olten.ch
DTSTAMP:20260121T130416Z
DESCRIPTION:Kontakt: Andreas Schindelholz\, 062 213 85 20\n\nWeitere
  Infos: https://www.ref-olten.ch/veranstaltung/27731
SUMMARY:POP-UP Special
PRIORITY:5
X-MICROSOFT-CDO-IMPORTANCE:1
CLASS:PUBLIC
END:VEVENT
END:VCALENDAR
