BEGIN:VCALENDAR
PRODID:-//kirchenweb.ch gmbh//veranstaltungsausgabe v2.0//DE
VERSION:2.0
METHOD:PUBLISH
BEGIN:VEVENT
DTSTART:20261113T170000Z
DTEND:20261113T200000Z
LOCATION:Evangelisch-Reformierte Kirche Wangen\, Mittelgäustrasse 19\,
  4612 Wangen
TRANSP:OPAQUE
SEQUENCE:0
UID:27749-veranstaltung@ref-olten.ch
DTSTAMP:20251014T100949Z
DESCRIPTION:Kontakt: Andreas Schindelholz\, 062 213 85 20\n\nWeitere
  Infos: https://www.ref-olten.ch/veranstaltung/27749
SUMMARY:Jugendtreff Wangen
PRIORITY:5
X-MICROSOFT-CDO-IMPORTANCE:1
CLASS:PUBLIC
END:VEVENT
END:VCALENDAR
