BEGIN:VCALENDAR
PRODID:-//kirchenweb.ch gmbh//veranstaltungsausgabe v2.0//DE
VERSION:2.0
METHOD:PUBLISH
BEGIN:VEVENT
DTSTART:20261025T090000Z
DTEND:20261025T100000Z
LOCATION:Evangelisch-Reformiertes Kirchgemeindehaus\, Grossmattstrasse 2\,
  4614 Hägendorf
TRANSP:OPAQUE
SEQUENCE:0
UID:27788-veranstaltung@ref-olten.ch
DTSTAMP:20251014T102849Z
DESCRIPTION:Kontakt: Andreas Schindelholz\, 062 213 85 20\n\nWeitere
  Infos: https://www.ref-olten.ch/veranstaltung/27788
SUMMARY:Godi am Morge
PRIORITY:5
X-MICROSOFT-CDO-IMPORTANCE:1
CLASS:PUBLIC
END:VEVENT
END:VCALENDAR
