BEGIN:VCALENDAR
PRODID:-//kirchenweb.ch gmbh//veranstaltungsausgabe v2.0//DE
VERSION:2.0
METHOD:PUBLISH
BEGIN:VEVENT
DTSTART:20260310T083000Z
DTEND:20260310T090000Z
LOCATION:Altersheim Brüggli\, Alte Landstrasse 25\, 4657 Dulliken
TRANSP:OPAQUE
SEQUENCE:0
UID:27802-veranstaltung@ref-olten.ch
DTSTAMP:20251016T074859Z
DESCRIPTION:Die Gottesdienste im Altersheim Brüggli werden im Wechsel von
  der römisch-katholischen und der evangelisch-reformierten Gemeinde
  verantwortet. \nIm Anschluss findet jeweils ein Kirchenkaffee statt. \n
 \nKontakt: Pfr. Sascha Thiel\n\nWeitere Infos:
  https://www.ref-olten.ch/veranstaltung/27802
SUMMARY:Gottesdienst im Brügglipark
PRIORITY:5
X-MICROSOFT-CDO-IMPORTANCE:1
CLASS:PUBLIC
END:VEVENT
END:VCALENDAR
