BEGIN:VCALENDAR
PRODID:-//kirchenweb.ch gmbh//veranstaltungsausgabe v2.0//DE
VERSION:2.0
METHOD:PUBLISH
BEGIN:VEVENT
DTSTART:20260429T120000Z
DTEND:20260429T143000Z
LOCATION:Evangelisch-Reformierte Kirche Wangen\, Mittelgäustrasse 19\,
  4612 Wangen b. Olten
TRANSP:OPAQUE
SEQUENCE:0
UID:27847-veranstaltung@ref-olten.ch
DTSTAMP:20251021T080247Z
DESCRIPTION:Freies Spiel mit Kaplas\, Playmobil\, Ping-Pong\, Fussball
  etc.\nProgramm mit Bibelgeschichten\, Film\, Schatzsuche\, Liedern\,
  Basteln etc.\n\nKontakt: Marlis Schöni\, Oltnerstrasse 9\, 4614
  Hägendorf\, marlis.schoeni@ref-olten.ch\, 062 216 45 89\n\nWeitere
  Infos: https://www.ref-olten.ch/veranstaltung/27847
SUMMARY:Spielträff
PRIORITY:5
X-MICROSOFT-CDO-IMPORTANCE:1
CLASS:PUBLIC
END:VEVENT
END:VCALENDAR
