BEGIN:VCALENDAR
PRODID:-//kirchenweb.ch gmbh//veranstaltungsausgabe v2.0//DE
VERSION:2.0
METHOD:PUBLISH
BEGIN:VEVENT
DTSTART:20260910T120000Z
DTEND:20260910T140000Z
LOCATION:Evangelisch-Reformierte Kirche Wangen\, Mittelgäustrasse 15\,
  4612 Wangen
TRANSP:OPAQUE
SEQUENCE:0
UID:27868-veranstaltung@ref-olten.ch
DTSTAMP:20251021T083826Z
DESCRIPTION:In entspannter Atmosphäre treffen sich Strickbegeisterte im
  Unterrichtszimmer der reformierten Kirche Wangen b. O. um Pullover\,
  Socken\, Halstücher\, ... für Bedürftige herzustellen. \n\nEs bleibt
  auch Zeit um sich gegenseitig auszutauschen\n\nKontakt: Irene Affolter\n
 \nWeitere Infos: https://www.ref-olten.ch/veranstaltung/27868
SUMMARY:Stricknachmittag Wangen
PRIORITY:5
X-MICROSOFT-CDO-IMPORTANCE:1
CLASS:PUBLIC
END:VEVENT
END:VCALENDAR
