BEGIN:VCALENDAR
PRODID:-//kirchenweb.ch gmbh//veranstaltungsausgabe v2.0//DE
VERSION:2.0
METHOD:PUBLISH
BEGIN:VEVENT
DTSTART:20260421T170000Z
DTEND:20260421T200000Z
LOCATION:Friedenskirche\, Reiserstrasse 89\, 4600 Olten
TRANSP:OPAQUE
SEQUENCE:0
UID:27878-veranstaltung@ref-olten.ch
DTSTAMP:20251204T085418Z
DESCRIPTION:Kontakt: Susanne Gysin\, Reiserstrasse 89\, 4600 Olten\, 062
  212 76 17\, Sekretariat\n\nWeitere Infos:
  https://www.ref-olten.ch/veranstaltung/27878
SUMMARY:KiVo-Sitzung Kirchenkreis Olten-Stadt
PRIORITY:5
X-MICROSOFT-CDO-IMPORTANCE:1
CLASS:PUBLIC
END:VEVENT
END:VCALENDAR
