BEGIN:VCALENDAR
PRODID:-//kirchenweb.ch gmbh//veranstaltungsausgabe v2.0//DE
VERSION:2.0
METHOD:PUBLISH
BEGIN:VEVENT
DTSTART:20260216T183000Z
DTEND:20260216T203000Z
LOCATION:Johanneskirche\, Chäppeligass 39\, 4632 Trimbach
TRANSP:OPAQUE
SEQUENCE:0
UID:27922-veranstaltung@ref-olten.ch
DTSTAMP:20251029T165311Z
DESCRIPTION:Wir stricken für Obdachlose\, Kinderheime und Geburtshäuser
  in den Kantonen AG\, BL\, BS und SO.\n\n\nKontakt: Sandra Bieri\, 062 293
  16 89\n\nWeitere Infos: https://www.ref-olten.ch/veranstaltung/27922
SUMMARY:Stricktreff in Trimbach
PRIORITY:5
X-MICROSOFT-CDO-IMPORTANCE:1
CLASS:PUBLIC
END:VEVENT
END:VCALENDAR
