BEGIN:VCALENDAR
PRODID:-//kirchenweb.ch gmbh//veranstaltungsausgabe v2.0//DE
VERSION:2.0
METHOD:PUBLISH
BEGIN:VEVENT
DTSTART:20260425T073000Z
DTEND:20260425T110000Z
LOCATION:Johanneskirche\, Chäppeligass 39\, 4632 Trimbach
TRANSP:OPAQUE
SEQUENCE:0
UID:27934-veranstaltung@ref-olten.ch
DTSTAMP:20251029T170057Z
DESCRIPTION:Einmal im Monat am Samstag öffnen sich im Matthäusraum  im
  UG der Johanneskirche die Türen zur Büchertauschbörse.  Es gibt dort
  eine grosse Anzahl an Krimis\, Thrillern und Romanen\, aber auch Hör-
  und Kinderbücher\, Fantasyliteratur und DVD. \nKeine Annahme von alten
  Sach- und Kochbüchern sowie Bildbänden\nWir bieten auch Kaffee und
  andere Getränke an.\n\nKontakt: Sandra Bieri\, 079 653 52 79 und Astrid
  Geering\, 079 565 74 19 \n\nWeitere Infos:
  https://www.ref-olten.ch/veranstaltung/27934
SUMMARY:Büchertauschbörse
PRIORITY:5
X-MICROSOFT-CDO-IMPORTANCE:1
CLASS:PUBLIC
END:VEVENT
END:VCALENDAR
