BEGIN:VCALENDAR
PRODID:-//kirchenweb.ch gmbh//veranstaltungsausgabe v2.0//DE
VERSION:2.0
METHOD:PUBLISH
BEGIN:VEVENT
DTSTART:20260519T173000Z
DTEND:20260519T200000Z
LOCATION:Zwinglikirche\, Kleinfeld 2A\, 4657 Dulliken
TRANSP:OPAQUE
SEQUENCE:0
UID:27961-veranstaltung@ref-olten.ch
DTSTAMP:20251030T131405Z
DESCRIPTION:Kontakt: Andrea Schulzke\, Vorstandspräsidentin\n\nWeitere
  Infos: https://www.ref-olten.ch/veranstaltung/27961
SUMMARY:Kiko-Sitzung
PRIORITY:5
X-MICROSOFT-CDO-IMPORTANCE:1
CLASS:PUBLIC
END:VEVENT
END:VCALENDAR
