BEGIN:VCALENDAR
PRODID:-//kirchenweb.ch gmbh//veranstaltungsausgabe v2.0//DE
VERSION:2.0
METHOD:PUBLISH
BEGIN:VEVENT
DTSTART:20260308T090000Z
DTEND:20260308T100000Z
LOCATION:Evangelisch-Reformierte Kirche Hägendorf\, Bodenmattstrasse 1\,
  4614 Hägendorf
TRANSP:OPAQUE
SEQUENCE:0
UID:27976-veranstaltung@ref-olten.ch
DTSTAMP:20260303T072908Z
DESCRIPTION:Lectio Continua ("fortlaufende Lesung") durchs
  Matthäusevangelium\n\nLieder im Gottesdienst:\nRG 159 «Liebster Jesu\,
  wir sind hier»\nRG 661 «Allgenugsam Wesen»\nRG 260 «Gott hat das
  erste Wort»\n«In dem Kreuz liegt die Kraft»
  https://www.youtube.com/watch?v=kFjASx-edcA&list=OLAK5uy_ksZqB1NFz-ZR6rgB
 MAG_1aj0EG7j05otY&index=10\n\nKontakt: Pfarrer Thierry Wey\, 077 437 21 60
 \n\nWeitere Infos: https://www.ref-olten.ch/veranstaltung/27976
SUMMARY:Gottesdienst in Hägendorf
PRIORITY:5
X-MICROSOFT-CDO-IMPORTANCE:1
CLASS:PUBLIC
END:VEVENT
END:VCALENDAR
