BEGIN:VCALENDAR
PRODID:-//kirchenweb.ch gmbh//veranstaltungsausgabe v2.0//DE
VERSION:2.0
METHOD:PUBLISH
BEGIN:VEVENT
DTSTART:20260329T080000Z
DTEND:20260329T090000Z
LOCATION:Evangelisch-Reformierte Kirche Wangen\, Mittelgäustrasse 19\,
  4612 Wangen
TRANSP:OPAQUE
SEQUENCE:0
UID:27978-veranstaltung@ref-olten.ch
DTSTAMP:20260323T142812Z
DESCRIPTION:Lectio Continua ("fortlaufende Lesung") durchs
  Matthäusevangelium\n\nIm Anschluss an den Gottesdienst gibt es die
  Möglichkeit zur "Teilete": Alle\, die möchten\, bringen etwas zu essen
  mit und teilen untereinander.\n\nLieder im Gottesdienst:\n1) RG 370
  «Tochter Zion»\n2) RG 77 «Öffne meine Augen»\n3)
  https://www.youtube.com/watch?v=kFjASx-edcA\n4) RG 343 «Komm\, Herr\,
  segne uns»\n\nKontakt: Pfarrer Thierry Wey\, 077 437 21 60\n\nWeitere
  Infos: https://www.ref-olten.ch/veranstaltung/27978
SUMMARY:Gottesdienst zum Palmsonntag in Wangen\, Teilete
PRIORITY:5
X-MICROSOFT-CDO-IMPORTANCE:1
CLASS:PUBLIC
END:VEVENT
END:VCALENDAR
