BEGIN:VCALENDAR
PRODID:-//kirchenweb.ch gmbh//veranstaltungsausgabe v2.0//DE
VERSION:2.0
METHOD:PUBLISH
BEGIN:VEVENT
DTSTART:20260405T060000Z
DTEND:20260405T070000Z
LOCATION:Evangelisch-Reformierte Kirche Wangen\, Mittelgäustrasse 19\,
  4612 Wangen
TRANSP:OPAQUE
SEQUENCE:0
UID:27980-veranstaltung@ref-olten.ch
DTSTAMP:20260326T161731Z
DESCRIPTION:besonderer Ostergottesdienst im Rahmen des 800 Jahre
  Jubiläums der Gemeinde Wangen bei Olten\n\n7.30 Uhr Abendmahl am
  Osterfeuer vor der Kirche\n\n8.00 Uhr Gottesdienst mit dem Kirchenchor
  Untergäu\n800 Jahre Wangen\, 800 Jahre Kirche\, 800 Jahre Kirchenmusik\n
 \n9.00 Uhr Brunch & Schoggieiersuche\n\nLieder im Gottesdienst:\n1) RG 169
  «Jésus le Christ»\n2) RG 462 «Christ ist erstanden»\n3) RG 485
  «Dir\, Auferstandner»\n4) https://www.youtube.com/watch?v=-LgE_E7yaz4\n
 \nKontakt: Pfarrer Thierry Wey\, 077 437 21 60\n\nWeitere Infos:
  https://www.ref-olten.ch/veranstaltung/27980
SUMMARY:Ostermorgenfeier in Wangen mit Brunch
PRIORITY:5
X-MICROSOFT-CDO-IMPORTANCE:1
CLASS:PUBLIC
END:VEVENT
END:VCALENDAR
