BEGIN:VCALENDAR
PRODID:-//kirchenweb.ch gmbh//veranstaltungsausgabe v2.0//DE
VERSION:2.0
METHOD:PUBLISH
BEGIN:VEVENT
DTSTART:20260426T080000Z
DTEND:20260426T090000Z
LOCATION:Evangelisch-Reformierte Kirche Hägendorf\, Bodenmattstrasse 1\,
  4614 Hägendorf
TRANSP:OPAQUE
SEQUENCE:0
UID:27981-veranstaltung@ref-olten.ch
DTSTAMP:20260409T065553Z
DESCRIPTION:Lectio Continua ("fortlaufende Lesung") durchs
  Matthäusevangelium\n\nPredigt von Sozialdiakon Andreas Schindelholz\n
 \nIm Anschluss an den Gottesdienst Teilete:\nWer gemeinsam essen möchte\,
  bringt etwas mit. Wir stellen ein Buffet zusammen und teilen alles.\n
 \nKontakt: Pfarrer Thierry Wey\, 077 437 21 60\n\nWeitere Infos:
  https://www.ref-olten.ch/veranstaltung/27981
SUMMARY:Gottesdienst in Hägendorf mit Teilete
PRIORITY:5
X-MICROSOFT-CDO-IMPORTANCE:1
CLASS:PUBLIC
END:VEVENT
END:VCALENDAR
