BEGIN:VCALENDAR
PRODID:-//kirchenweb.ch gmbh//veranstaltungsausgabe v2.0//DE
VERSION:2.0
METHOD:PUBLISH
BEGIN:VEVENT
DTSTART:20260607T080000Z
DTEND:20260607T090000Z
LOCATION:Evangelisch-Reformierte Kirche Hägendorf\, Bodenmattstrasse 1\,
  4614 Hägendorf
TRANSP:OPAQUE
SEQUENCE:0
UID:27986-veranstaltung@ref-olten.ch
DTSTAMP:20251030T145807Z
DESCRIPTION:Lectio Continua ("fortlaufende Lesung") durchs
  Matthäusevangelium\n\nEs singt der Kirchenchor Untergäu.\n\nKontakt:
  Pfarrer Thierry Wey\, 077 437 21 60\n\nWeitere Infos:
  https://www.ref-olten.ch/veranstaltung/27986
SUMMARY:Gottesdienst in Hägendorf
PRIORITY:5
X-MICROSOFT-CDO-IMPORTANCE:1
CLASS:PUBLIC
END:VEVENT
END:VCALENDAR
