BEGIN:VCALENDAR
PRODID:-//kirchenweb.ch gmbh//veranstaltungsausgabe v2.0//DE
VERSION:2.0
METHOD:PUBLISH
BEGIN:VEVENT
DTSTART:20260614T080000Z
DTEND:20260614T090000Z
LOCATION:Evangelisch-Reformierte Kirche Wangen\, Mittelgäustrasse 19\,
  4612 Wangen
TRANSP:OPAQUE
SEQUENCE:0
UID:27987-veranstaltung@ref-olten.ch
DTSTAMP:20251030T145834Z
DESCRIPTION:Lectio Continua ("fortlaufende Lesung") durchs
  Matthäusevangelium\n\nKontakt: Pfarrer Thierry Wey\, 077 437 21 60\n
 \nWeitere Infos: https://www.ref-olten.ch/veranstaltung/27987
SUMMARY:Gottesdienst in Wangen
PRIORITY:5
X-MICROSOFT-CDO-IMPORTANCE:1
CLASS:PUBLIC
END:VEVENT
END:VCALENDAR
