BEGIN:VCALENDAR
PRODID:-//kirchenweb.ch gmbh//veranstaltungsausgabe v2.0//DE
VERSION:2.0
METHOD:PUBLISH
BEGIN:VEVENT
DTSTART;VALUE=DATE:20260910
DTEND;VALUE=DATE:20260911
LOCATION:Evangelisch-Reformiertes Kirchgemeindehaus\, Grossmattstrasse 4\,
  4614 Hägendorf
TRANSP:OPAQUE
SEQUENCE:0
UID:28024-veranstaltung@ref-olten.ch
DTSTAMP:20260217T075226Z
DESCRIPTION:Herzliche Einladung zur Seniorenreise\, Details folgen noch.\n
 \n\n\nKontakt: Sozialdiakon  Andreas Schindelholz\, Grossmattstrasse 4\,
  4614 Hägendorf\, andreas.schindelholz@ref-olten.ch\, 062 213 85 20\n
 \nWeitere Infos: https://www.ref-olten.ch/veranstaltung/28024
SUMMARY:Seniorennachmittag Hägendorf: Seniorenreise
PRIORITY:5
X-MICROSOFT-CDO-IMPORTANCE:1
CLASS:PUBLIC
END:VEVENT
END:VCALENDAR
