BEGIN:VCALENDAR
PRODID:-//kirchenweb.ch gmbh//veranstaltungsausgabe v2.0//DE
VERSION:2.0
METHOD:PUBLISH
BEGIN:VEVENT
DTSTART:20260217T183000Z
DTEND:20260217T203000Z
LOCATION:Johanneskirche\, Chäppeligass 39\, 4632 Trimbach
TRANSP:OPAQUE
SEQUENCE:0
UID:28032-veranstaltung@ref-olten.ch
DTSTAMP:20260126T190316Z
DESCRIPTION:Spiele & Cocktails im Lukassaal\, organisiert von Maya und
  Corinne.\n\nKontakt: Karin Durand\, 062 293 65 41\n\nWeitere Infos:
  https://www.ref-olten.ch/veranstaltung/28032
SUMMARY:Ladies-Night - Spiele & Cocktails
PRIORITY:5
X-MICROSOFT-CDO-IMPORTANCE:1
CLASS:PUBLIC
END:VEVENT
END:VCALENDAR
