BEGIN:VCALENDAR
PRODID:-//kirchenweb.ch gmbh//veranstaltungsausgabe v2.0//DE
VERSION:2.0
METHOD:PUBLISH
BEGIN:VEVENT
DTSTART:20260424T160000Z
DTEND:20260424T180000Z
LOCATION:Johanneskirche\, Chäppeligass 39\, 4632 Trimbach
TRANSP:OPAQUE
SEQUENCE:0
UID:28042-veranstaltung@ref-olten.ch
DTSTAMP:20260126T193331Z
DESCRIPTION:Im Johannessaal der Johanneskirche Trimbach.\n\nHast du gut
  erhaltene Kleider und Accessoires (Gürtel\, Foulards\, Hüte\,
  Modeschmuck) und möchtest diese gegen andere Artikel tauschen? Dann komm
  vorbei!\n\nKontakt: Corinne Etter: 062 293 12 75\n\n\nKontakt: Karin
  Durand\, 062 293 65 41\n\nWeitere Infos:
  https://www.ref-olten.ch/veranstaltung/28042
SUMMARY:Kleidertauschbörse für Frauen
PRIORITY:5
X-MICROSOFT-CDO-IMPORTANCE:1
CLASS:PUBLIC
END:VEVENT
END:VCALENDAR
