BEGIN:VCALENDAR
PRODID:-//kirchenweb.ch gmbh//veranstaltungsausgabe v2.0//DE
VERSION:2.0
METHOD:PUBLISH
BEGIN:VEVENT
DTSTART:20260923T173000Z
DTEND:20260923T203000Z
LOCATION:Pauluskirche\, Grundstrasse 18\, 4600 Olten
TRANSP:OPAQUE
SEQUENCE:0
UID:28094-veranstaltung@ref-olten.ch
DTSTAMP:20260325T124454Z
DESCRIPTION:Kontakt: Karin Schmid\, 062 212 16 26\n\nWeitere Infos:
  https://www.ref-olten.ch/veranstaltung/28094
SUMMARY:KG-Ratssitzung 8/26
PRIORITY:5
X-MICROSOFT-CDO-IMPORTANCE:1
CLASS:PUBLIC
END:VEVENT
END:VCALENDAR
