BEGIN:VCALENDAR
PRODID:-//kirchenweb.ch gmbh//veranstaltungsausgabe v2.0//DE
VERSION:2.0
METHOD:PUBLISH
BEGIN:VEVENT
DTSTART:20260611T160000Z
DTEND:20260611T180000Z
LOCATION:Zwinglikirche\, Kleinfeld 2A\, 4657 Dulliken
TRANSP:OPAQUE
SEQUENCE:0
UID:28108-veranstaltung@ref-olten.ch
DTSTAMP:20251219T172210Z
DESCRIPTION:Kontakt: Roken Shikko\n078 979 28 29\n\nWeitere Infos:
  https://www.ref-olten.ch/veranstaltung/28108
SUMMARY:Femmes Tisch International
PRIORITY:5
X-MICROSOFT-CDO-IMPORTANCE:1
CLASS:PUBLIC
END:VEVENT
END:VCALENDAR
