BEGIN:VCALENDAR
PRODID:-//kirchenweb.ch gmbh//veranstaltungsausgabe v2.0//DE
VERSION:2.0
METHOD:PUBLISH
BEGIN:VEVENT
DTSTART:20260528T120000Z
DTEND:20260528T140000Z
LOCATION:Pauluskirche\, Grundstrasse 18\, 4600 Olten
TRANSP:OPAQUE
SEQUENCE:0
UID:28117-veranstaltung@ref-olten.ch
DTSTAMP:20260410T074622Z
DESCRIPTION:Vorbereitungstreffen der Teilnehmenden an der Seniorenwoche\n
 \nKontakt: Pfr. Uwe Kaiser\, 062 296 22 60\n\nWeitere Infos:
  https://www.ref-olten.ch/veranstaltung/28117
SUMMARY:Seniorenwoche Vorbereitungstreffen
PRIORITY:5
X-MICROSOFT-CDO-IMPORTANCE:1
CLASS:PUBLIC
END:VEVENT
END:VCALENDAR
