BEGIN:VCALENDAR
PRODID:-//kirchenweb.ch gmbh//veranstaltungsausgabe v2.0//DE
VERSION:2.0
METHOD:PUBLISH
BEGIN:VEVENT
DTSTART:20260422T120000Z
DTEND:20260422T140000Z
LOCATION:Kirchgemeindesaal der ref. Kirche Wangen\, Mittelgäustrasse 19\,
  4612 Wangen b. Olten
TRANSP:OPAQUE
SEQUENCE:0
UID:28131-veranstaltung@ref-olten.ch
DTSTAMP:20260217T082709Z
DESCRIPTION:Wir treffen uns im Saal der reformierten Kirche Wangen.\n
 \nHeute: Aeschlimann - Mani Matter Lieder mit Pfr. Thierry Wey\n
 \nJedermann ist herzlich eingeladen\, im Anschluss gibt’s Kaffee und
  etwas Süsses!\n\nKontakt: Lisbeth Walder\, Allmendstrasse 42\, 4612
  Wangen b. Olten\, lisbeth.walder@ref-olten.ch\, 079 613 91 17\n\nWeitere
  Infos: https://www.ref-olten.ch/veranstaltung/28131
SUMMARY:Seniorentreff Wangen
PRIORITY:5
X-MICROSOFT-CDO-IMPORTANCE:1
CLASS:PUBLIC
END:VEVENT
END:VCALENDAR
