BEGIN:VCALENDAR
PRODID:-//kirchenweb.ch gmbh//veranstaltungsausgabe v2.0//DE
VERSION:2.0
METHOD:PUBLISH
BEGIN:VEVENT
DTSTART:20260706T123000Z
DTEND:20260706T140000Z
LOCATION:Römisch-Katholischer Pfarreisaal\, Kirchweg 1\, 4652 Winznau
TRANSP:OPAQUE
SEQUENCE:0
UID:28145-veranstaltung@ref-olten.ch
DTSTAMP:20251118T095120Z
DESCRIPTION:Herzliche Einladung an ältere Mitmenschen zur freien
  Zusammenkunft.\n\nWas gibt’s: 	Etwas zum Hören\, Sehen\, Singen;
  Plaudern bei Kaffee/Tee + Gebäck! \n\nMitbringen:     Gute Laune!\n
 \nUnkostenbeitrag:  Fr. 2.--  \n\nEs besteht ein Fahrdienst: (Bitte bei G.
  Eglin: Tel. 062 295 45 34 melden.)\n\n\nKontakt: Geri Eglin\, 062 295 45
  34 \n\nWeitere Infos: https://www.ref-olten.ch/veranstaltung/28145
SUMMARY:Sidemätteli-Stubete
PRIORITY:5
X-MICROSOFT-CDO-IMPORTANCE:1
CLASS:PUBLIC
END:VEVENT
END:VCALENDAR
