BEGIN:VCALENDAR
PRODID:-//kirchenweb.ch gmbh//veranstaltungsausgabe v2.0//DE
VERSION:2.0
METHOD:PUBLISH
BEGIN:VEVENT
DTSTART:20261213T180000Z
DTEND:20261213T190000Z
LOCATION:Bruder-Klaus-Kirche\, \, 4618 Boningen
TRANSP:OPAQUE
SEQUENCE:0
UID:28163-veranstaltung@ref-olten.ch
DTSTAMP:20260126T162355Z
DESCRIPTION:liturgischer Abendgottesdienst zum Thema Schöpfung\n
 \nliturgische Gebete – Taizé-Lieder - kurze Predigt – Besinnung und
  Ruhe\n\nAb 18.30 Uhr üben wir gemeinsam die vierstimmigen Gesänge.\nDer
  Gottesdienst startet jeweils um 19.00 Uhr.\n\n15. Februar: gute
  Schöpfung & gefallene Schöpfung\n6. April (Ostermontag): Auferstehung &
  Neuschöpfung\n28. Juni *\n30. August: die Schöpfung pflegen\n18.
  Oktober: für die Schöpfung danken (Erntedank)\n13. Dezember: neuer
  Himmel & neue Erde\n\n\n* Ausnahme: ökumenischer Gottesdienst im
  Eichlibann Boningen um 19.30 Uhr\,\nmit der Musikgesellschaft Boningen\,
  anschliessend Kaffee und Kuchen\n(Bei schlechtem Wetter findet der
  Gottesdienst in der Bruder Klaus Kirche statt.)\n\nKontakt: Pfarrer
  Thierry Wey\, 077 437 21 60\n\nWeitere Infos:
  https://www.ref-olten.ch/veranstaltung/28163
SUMMARY:Liturgischer Abendgottesdienst in Boningen
PRIORITY:5
X-MICROSOFT-CDO-IMPORTANCE:1
CLASS:PUBLIC
END:VEVENT
END:VCALENDAR
