BEGIN:VCALENDAR
PRODID:-//kirchenweb.ch gmbh//veranstaltungsausgabe v2.0//DE
VERSION:2.0
METHOD:PUBLISH
BEGIN:VEVENT
DTSTART:20260423T070000Z
DTEND:20260423T083000Z
LOCATION:reformiertes Pfarrhaus\, Grossmattstrasse 4\, 4614 Hägendorf
TRANSP:OPAQUE
SEQUENCE:0
UID:28208-veranstaltung@ref-olten.ch
DTSTAMP:20251128T083800Z
DESCRIPTION:Runder Tisch in Hägendorf\n\n Treffen Sie sich in
  ungezwungener Atmosphäre zur gemeinsamen Bibellektüre und zur
  Diskussion.\n Sie sind herzlich eingeladen.\n\n\nKontakt: Annelies
  Maegli\, Weinhaldenfeld 8\, 4614 Hägendorf\,
  annelies.maegli@ref-olten.ch\, 062 216 42 43\n\nWeitere Infos:
  https://www.ref-olten.ch/veranstaltung/28208
SUMMARY:Runder Tisch Hägendorf
PRIORITY:5
X-MICROSOFT-CDO-IMPORTANCE:1
CLASS:PUBLIC
END:VEVENT
END:VCALENDAR
