BEGIN:VCALENDAR
PRODID:-//kirchenweb.ch gmbh//veranstaltungsausgabe v2.0//DE
VERSION:2.0
METHOD:PUBLISH
BEGIN:VEVENT
DTSTART:20260507T120000Z
DTEND:20260507T150000Z
LOCATION:Johanneskirche\, Chäppeligass 39\, 4632 Trimbach
TRANSP:OPAQUE
SEQUENCE:0
UID:28271-veranstaltung@ref-olten.ch
DTSTAMP:20251202T090811Z
DESCRIPTION:Alle jass-freudigen Menschen sind herzlich eingeladen am
  Donnerstag Nachmittag einen\nzünftigen Jass zu klopfen.\n\nKontakt:
  Karin Durand\, 062 293 65 41\n\nWeitere Infos:
  https://www.ref-olten.ch/veranstaltung/28271
SUMMARY:Jassen
PRIORITY:5
X-MICROSOFT-CDO-IMPORTANCE:1
CLASS:PUBLIC
END:VEVENT
END:VCALENDAR
