BEGIN:VCALENDAR
PRODID:-//kirchenweb.ch gmbh//veranstaltungsausgabe v2.0//DE
VERSION:2.0
METHOD:PUBLISH
BEGIN:VEVENT
DTSTART:20260521T113000Z
DTEND:20260521T150000Z
LOCATION:Kirchgemeindehaus Walterswil\, Rothackerstrasse 6\, 5746
  Walterswil
TRANSP:OPAQUE
SEQUENCE:0
UID:28290-veranstaltung@ref-olten.ch
DTSTAMP:20251202T152427Z
DESCRIPTION:jeden 3. Donnerstag im Monat Treff mit Kaffee und Spiel im
  reformierten Kirchgemeindehaus\, Walterswil\n\n\nKontakt: Mareike Huber\n
 \nWeitere Infos: https://www.ref-olten.ch/veranstaltung/28290
SUMMARY:Walterswiler-Treff
PRIORITY:5
X-MICROSOFT-CDO-IMPORTANCE:1
CLASS:PUBLIC
END:VEVENT
END:VCALENDAR
