BEGIN:VCALENDAR
PRODID:-//kirchenweb.ch gmbh//veranstaltungsausgabe v2.0//DE
VERSION:2.0
METHOD:PUBLISH
BEGIN:VEVENT
DTSTART:20260423T054500Z
DTEND:20260423T064500Z
LOCATION:Pauluskirche\, Grundstrasse 18\, 4600 Olten
TRANSP:OPAQUE
SEQUENCE:0
UID:28315-veranstaltung@ref-olten.ch
DTSTAMP:20251205T103524Z
DESCRIPTION:Kontakt: Barbara Dietz\n\nWeitere Infos:
  https://www.ref-olten.ch/veranstaltung/28315
SUMMARY:Müttergebet
PRIORITY:5
X-MICROSOFT-CDO-IMPORTANCE:1
CLASS:PUBLIC
END:VEVENT
END:VCALENDAR
