BEGIN:VCALENDAR
PRODID:-//kirchenweb.ch gmbh//veranstaltungsausgabe v2.0//DE
VERSION:2.0
METHOD:PUBLISH
BEGIN:VEVENT
DTSTART:20260430T180000Z
DTEND:20260430T190000Z
LOCATION:Evangelisch-Reformierte Kirche Wangen\, Mittelgäustrasse 19\,
  4612 Wangen
TRANSP:OPAQUE
SEQUENCE:0
UID:28348-veranstaltung@ref-olten.ch
DTSTAMP:20260409T065659Z
DESCRIPTION:Am Bibelabend entdecken wir gemeinsam die Bibel.\nWir lesen
  einen Abschnitt und tauschen uns darüber aus.\nWir unterhalten uns über
  das richtige Verständnis\, Interpretationsmöglichkeiten und Anwendungen
  für den Alltag.\nAlle sind willkommen. Vorkenntnisse sind nicht nötig.
 \n\nWir lesen im letzten Buch der Bibel\, der Offenbarung (auf Wunsch der
  Teilnehmer).\nHeute: Offenbarung 22\, Abschluss\n\nZeit:
  Donnerstagabend\, 20:00-21:00 Uhr\nOrt: Im Saal unter der ref. Kirche\,
  Mittelgäustrasse 19\, 4612 Wangen bei Olten.\nBitte benutzen Sie den
  Hintereingang.\nMitbringen: eigene Bibel und allenfalls Schreibzeug für
  Notizen\n\nKontakt: Pfarrer Thierry Wey\, Mittelgäustrasse 17\, 4612
  Wangen bei Olten\, thierry.wey@ref-olten.ch\, 077 437 21 60\n\nWeitere
  Infos: https://www.ref-olten.ch/veranstaltung/28348
SUMMARY:Bibelabend - gemeinsam die Bibel entdecken
PRIORITY:5
X-MICROSOFT-CDO-IMPORTANCE:1
CLASS:PUBLIC
END:VEVENT
END:VCALENDAR
