BEGIN:VCALENDAR
PRODID:-//kirchenweb.ch gmbh//veranstaltungsausgabe v2.0//DE
VERSION:2.0
METHOD:PUBLISH
BEGIN:VEVENT
DTSTART:20260423T083000Z
DTEND:20260423T093000Z
LOCATION:Seniorenzentrum Untergäu\, Thalackerweg 11\, 4614 Hägendorf
TRANSP:OPAQUE
SEQUENCE:0
UID:28420-veranstaltung@ref-olten.ch
DTSTAMP:20251212T102741Z
DESCRIPTION:Jeden Donnerstag findet im Seniorenzentrum Untergäu eine
  ökumenische Seniorenandacht/Gottesdienst statt.\n\nAlle sind herzlich
  willkommen!\n\n\n\nKontakt: Pfarrer Thierry Wey\, Mittelgäustrasse 17\,
  4612 Wangen bei Olten\, thierry.wey@ref-olten.ch\, 077 437 21 60\n
 \nWeitere Infos: https://www.ref-olten.ch/veranstaltung/28420
SUMMARY:Seniorenandacht im Seniorenzentrum Untergäu Hägendorf
PRIORITY:5
X-MICROSOFT-CDO-IMPORTANCE:1
CLASS:PUBLIC
END:VEVENT
END:VCALENDAR
