BEGIN:VCALENDAR
PRODID:-//kirchenweb.ch gmbh//veranstaltungsausgabe v2.0//DE
VERSION:2.0
METHOD:PUBLISH
BEGIN:VEVENT
DTSTART:20260215T090000Z
DTEND:20260215T100000Z
LOCATION:Johanneskirche\, Chäppeligass 39\, 4632 Trimbach
TRANSP:OPAQUE
SEQUENCE:0
UID:28470-veranstaltung@ref-olten.ch
DTSTAMP:20260108T111654Z
DESCRIPTION:Der Gottesdienst wird vom Kirchenchor Untergäu unter der
  Leitung von Hiram Santos und Pfarrer Andreas Haag gestaltet.\nWir freuen
  uns auf die Lieder des Kirchenchors und heissen die Sängerinnen und
  Sänger und alle Mitfeiernden herzlich willkommen!\n\nKontakt: Pfarrer
  Andreas Haag\, 062 293 32 42\n\nWeitere Infos:
  https://www.ref-olten.ch/veranstaltung/28470
SUMMARY:Gottesdienst in der Johanneskirche Trimbach mit dem Kirchenchor
  Untergäu
PRIORITY:5
X-MICROSOFT-CDO-IMPORTANCE:1
CLASS:PUBLIC
END:VEVENT
END:VCALENDAR
