BEGIN:VCALENDAR
PRODID:-//kirchenweb.ch gmbh//veranstaltungsausgabe v2.0//DE
VERSION:2.0
METHOD:PUBLISH
BEGIN:VEVENT
DTSTART:20260317T131500Z
DTEND:20260317T151500Z
LOCATION:Johanneskirche\, Chäppeligass 39\, 4632 Trimbach
TRANSP:OPAQUE
SEQUENCE:0
UID:28480-veranstaltung@ref-olten.ch
DTSTAMP:20251215T180730Z
DESCRIPTION:Silberdistel-Nachmittag: Colmar und das Unterlinden Museum mit
  Pfarrer Uwe Kaiser.\nIm Museum finden sich die Bildtafeln des
  eindrücklichen Isenheimer Altars. Sie zeigen nicht nur einen wichtigen
  kunstgeschichtlichen Entwicklungsschritt\, sondern vermitteln auch die
  grossartige Botschaft unserer Glaubens. Ausgezeichnet passend in die
  Passionszeit.\n\nKontakt: Pfarrer Andreas Haag\, 062 293 32 42\n\nWeitere
  Infos: https://www.ref-olten.ch/veranstaltung/28480
SUMMARY:Silberdistel-Nachmittag
PRIORITY:5
X-MICROSOFT-CDO-IMPORTANCE:1
CLASS:PUBLIC
END:VEVENT
END:VCALENDAR
