BEGIN:VCALENDAR
PRODID:-//kirchenweb.ch gmbh//veranstaltungsausgabe v2.0//DE
VERSION:2.0
METHOD:PUBLISH
BEGIN:VEVENT
DTSTART:20260421T121500Z
DTEND:20260421T141500Z
LOCATION:Johanneskirche\, Chäppeligass 39\, 4632 Trimbach
TRANSP:OPAQUE
SEQUENCE:0
UID:28481-veranstaltung@ref-olten.ch
DTSTAMP:20251215T180901Z
DESCRIPTION:Silberdistel-Nachmittag mit dem Pensioniertenchor der SBB. 
 \nEs erwartet uns ein musikalischer\, kurzweiliger Nachmittag. Die
  Mitglieder des Pensioniertenchores der SBB erfreuen uns mit ihren Liedern
  und sorgen für gute Unterhaltung.\n\nKontakt: Pfarrer Andreas Haag\, 062
  293 32 42\n\nWeitere Infos: https://www.ref-olten.ch/veranstaltung/28481
SUMMARY:Silberdistel-Nachmittag
PRIORITY:5
X-MICROSOFT-CDO-IMPORTANCE:1
CLASS:PUBLIC
END:VEVENT
END:VCALENDAR
