BEGIN:VCALENDAR
PRODID:-//kirchenweb.ch gmbh//veranstaltungsausgabe v2.0//DE
VERSION:2.0
METHOD:PUBLISH
BEGIN:VEVENT
DTSTART;VALUE=DATE:20260509
DTEND;VALUE=DATE:20260510
LOCATION:Johanneskirche\, Chäppeligass 39\, 4632 Trimbach
TRANSP:OPAQUE
SEQUENCE:0
UID:28503-veranstaltung@ref-olten.ch
DTSTAMP:20260407T095332Z
DESCRIPTION:Ausflug nach Bern ins Bundeshaus und zum Zytglogge-Turm\nWir
  besuchen das Bundeshaus mit einer Führung und erleben einen Rundgang
  durch den berühmten Zytglogge-Turm. \nMittagessen in einer Pizzeria.
  Danach freie Zeit zum Bummeln\, Münsterturmbesteigung oder
  „Lädele“. Alle Interessierten – auch Frauen sind eingeladen. \n
 \nTreffpunkt: 8.20 Uhr auf Gleis 11\, Bahnhof Olten\n\nRückkehr: 16 Uhr
  in Olten\n\nKosten: 20 Franken für Führung\, Kaffee und Gipfeli\n\nDie
  Kosten für das Mittagessen sowie für die Bahnfahrt trägt jeder
  Teilnehmer selbst\, das Zugticket organisiert jede Person eigenständig.
  Die Teilnehmerzahl ist beschränkt.\n\nAnmeldung per mail an:
  andreas.haag@ref-olten.ch oder 062 293 32 42. \nWichtig: ID oder Pass ist
  obligatorisch für die Führung im Bundeshaus\nSamstag\, 9. Mai\, 8.20
  bis 16 Uhr\n\n \n\nKontakt: Pfarrer Andreas Haag\, 062 293 32 42\n
 \nWeitere Infos: https://www.ref-olten.ch/veranstaltung/28503
SUMMARY:Männergruppe Trimbach
PRIORITY:5
X-MICROSOFT-CDO-IMPORTANCE:1
CLASS:PUBLIC
END:VEVENT
END:VCALENDAR
